BEGIN:VCALENDAR
VERSION:2.0
PRODID:-//eventon.com NONSGML v1.0//EN
CALSCALE:GREGORIAN
METHOD:PUBLISH
BEGIN:VEVENT
UID:69e740ef607fe
DTSTAMP:20260421T091839Z
DTSTART:20250426T140000Z
DTEND:20250426T180000Z
LOCATION:2732 Candler Rd. Decatur\,  GA 2732 Candler Rd.
SUMMARY:DKPD Safety Fair 2025
DESCRIPTION:The Safety Fair is a community-focused event designed to promot
 e safety awareness and provide valuable resources to residents and local bu
 sinesses. Immunizations (Flu\,  MPox\,  COVID)Screenings (diabetes\,  high 
 blood pressure\,  BMI\,  health checks)Health Education Materials\nhttps://
 dekalbpublichealth.com/events/dkpd-safety-fair-2025/
URL:https://dekalbpublichealth.com/events/dkpd-safety-fair-2025/
END:VEVENT
END:VCALENDAR